BEGIN:VCALENDAR
VERSION:2.0
PRODID:-//Community Land Scotland - ECPv6.14.2//NONSGML v1.0//EN
CALSCALE:GREGORIAN
METHOD:PUBLISH
X-ORIGINAL-URL:https://www.communitylandscotland.org.uk
X-WR-CALDESC:Events for Community Land Scotland
REFRESH-INTERVAL;VALUE=DURATION:PT1H
X-Robots-Tag:noindex
X-PUBLISHED-TTL:PT1H
BEGIN:VTIMEZONE
TZID:Europe/London
BEGIN:DAYLIGHT
TZOFFSETFROM:+0000
TZOFFSETTO:+0100
TZNAME:BST
DTSTART:20230326T010000
END:DAYLIGHT
BEGIN:STANDARD
TZOFFSETFROM:+0100
TZOFFSETTO:+0000
TZNAME:GMT
DTSTART:20231029T010000
END:STANDARD
BEGIN:DAYLIGHT
TZOFFSETFROM:+0000
TZOFFSETTO:+0100
TZNAME:BST
DTSTART:20240331T010000
END:DAYLIGHT
BEGIN:STANDARD
TZOFFSETFROM:+0100
TZOFFSETTO:+0000
TZNAME:GMT
DTSTART:20241027T010000
END:STANDARD
END:VTIMEZONE
BEGIN:VEVENT
DTSTART;TZID=Europe/London:20241102T100000
DTEND;TZID=Europe/London:20241102T160000
DTSTAMP:20260419T171356
CREATED:20241010T113910Z
LAST-MODIFIED:20260122T125358Z
UID:10000158-1730541600-1730563200@www.communitylandscotland.org.uk
SUMMARY:Urras Oighreachd Ghabhsainn na Dorsan Open Day
DESCRIPTION:A celebration of the opening of na Dorsan monument and exhibition\, a structure designed by renowned artists Will Maclean and Marian Leven to commemorate 100 years since the resettlement of Galson village. \nAll are warmly invited to an Open Day on 2nd November\, 10am – 4pm\, at Urras Oighreachd Ghabhsainn Business Centre to visit na Dorsan and to view the accompanying exhibition. Those involved in the project will also be sharing stories\, delving further into the history of Galson and behind the scenes of bringing na Dorsan to life. \nFor more information about na Dorsan and the work of Urras Oighreachd Ghabhsainn\, which manages the community-owned 56\,000-acre Galson Estate\, please visit www.galsontrust.com.
URL:https://www.communitylandscotland.org.uk/event/urras-oighreachd-ghabhsainn-na-dorsan-open-day/
LOCATION:Urras Oighreachd Ghabhsainn Business Centre\, Tom na Bà\, South Galson\, Isle of Lewis\, HS2 0SH\, United Kingdom
CATEGORIES:CLF Event Archive,clf24,Community Land Festival
ATTACH;FMTTYPE=image/png:https://www.communitylandscotland.org.uk/wp-content/uploads/2024/10/Galson.png
ORGANIZER;CN="Urras Oighreachd Ghabhsainn (Galson Estate Trust)":MAILTO:office@uogltd.com
END:VEVENT
BEGIN:VEVENT
DTSTART;TZID=Europe/London:20231027T193000
DTEND;TZID=Europe/London:20231027T213000
DTSTAMP:20260419T171356
CREATED:20221027T183019Z
LAST-MODIFIED:20231031T084559Z
UID:10000065-1698435000-1698442200@www.communitylandscotland.org.uk
SUMMARY:Urras Oighreachd Ghabhsainn (Galson Estate Trust)
DESCRIPTION:In honour of Community Land Week we are celebrating 100 years since the first community buyout! Come along and join us for a quiz about the area and put your local knowledge to the test. Enjoy some cheese and wine provided by the Good Food Boutique accompanied by music. \n  \n \nThis event is part of Community Land Week\, the festival of community ownership in Scotland. In 2023\, nearly 50 communities from across Scotland will celebrate\, with events ranging from guided walks across community-owned land and mushroom cultivation workshops\, to pumpkin festivals and ceilidhs. \nLearn more.
URL:https://www.communitylandscotland.org.uk/event/urras-oighreachd-ghabhsainn/
LOCATION:Urras Oighreachd Ghabhsainn Business Centre\, Tom na Bà\, South Galson\, Isle of Lewis\, HS2 0SH\, United Kingdom
CATEGORIES:CLF Event Archive
ATTACH;FMTTYPE=image/png:https://www.communitylandscotland.org.uk/wp-content/uploads/2023/09/Glason-Estate-Trust-1.png
ORGANIZER;CN="Urras Oighreachd Ghabhsainn (Galson Estate Trust)":MAILTO:office@uogltd.com
END:VEVENT
END:VCALENDAR