BEGIN:VCALENDAR
VERSION:2.0
PRODID:-//Community Land Scotland - ECPv6.14.2//NONSGML v1.0//EN
CALSCALE:GREGORIAN
METHOD:PUBLISH
X-WR-CALNAME:Community Land Scotland
X-ORIGINAL-URL:https://www.communitylandscotland.org.uk
X-WR-CALDESC:Events for Community Land Scotland
REFRESH-INTERVAL;VALUE=DURATION:PT1H
X-Robots-Tag:noindex
X-PUBLISHED-TTL:PT1H
BEGIN:VTIMEZONE
TZID:Europe/London
BEGIN:DAYLIGHT
TZOFFSETFROM:+0000
TZOFFSETTO:+0100
TZNAME:BST
DTSTART:20250330T010000
END:DAYLIGHT
BEGIN:STANDARD
TZOFFSETFROM:+0100
TZOFFSETTO:+0000
TZNAME:GMT
DTSTART:20251026T010000
END:STANDARD
END:VTIMEZONE
BEGIN:VEVENT
DTSTART;TZID=Europe/London:20251031T190000
DTEND;TZID=Europe/London:20251102T150000
DTSTAMP:20260419T151038
CREATED:20250818T104922Z
LAST-MODIFIED:20260122T124532Z
UID:10000961-1761937200-1762095600@www.communitylandscotland.org.uk
SUMMARY:Castle Douglas Development Forum * Crannog Coorie-In
DESCRIPTION:A weekend of karaoke\, autumn bushcraft\, bingo\, and arts/creative activities in and around the Crannog \nFriday 31 October\n19:00 – 21:00 Karaoke \nSaturday 1st November\n12:00 – 15:00 Bushcraft and bonfire\n18:00 – 19:00 Bat walk\n20:00 – 22:00 Bingo \nSunday 2 November\n12:00 – 15:00 Family Craft Club
URL:https://www.communitylandscotland.org.uk/event/castledouglas-clf25/
LOCATION:The Crannog\, Lochside Park\, Castle Douglas\, DG7 1EZ\, United Kingdom
CATEGORIES:CLF Event Archive,Community Land Festival
ATTACH;FMTTYPE=image/png:https://www.communitylandscotland.org.uk/wp-content/uploads/2025/08/CastleDouglasDev-clf25.png
ORGANIZER;CN="Castle Douglas Development Forum":MAILTO:info@heartofgalloway.org.uk
END:VEVENT
END:VCALENDAR